BEGIN:VCALENDAR
VERSION:2.0
PRODID:-//España Vaciada ¡Es el MOMENTO! - ECPv5.12.4//NONSGML v1.0//EN
CALSCALE:GREGORIAN
METHOD:PUBLISH
X-WR-CALNAME:España Vaciada ¡Es el MOMENTO!
X-ORIGINAL-URL:https://xn--espaavaciada-dhb.org
X-WR-CALDESC:Eventos para España Vaciada ¡Es el MOMENTO!
REFRESH-INTERVAL;VALUE=DURATION:PT1H
X-Robots-Tag:noindex
X-PUBLISHED-TTL:PT1H
BEGIN:VTIMEZONE
TZID:Europe/Madrid
BEGIN:DAYLIGHT
TZOFFSETFROM:+0100
TZOFFSETTO:+0200
TZNAME:CEST
DTSTART:20220327T010000
END:DAYLIGHT
BEGIN:STANDARD
TZOFFSETFROM:+0200
TZOFFSETTO:+0100
TZNAME:CET
DTSTART:20221030T010000
END:STANDARD
END:VTIMEZONE
BEGIN:VEVENT
DTSTART;TZID=Europe/Madrid:20220122T123000
DTEND;TZID=Europe/Madrid:20220122T140000
DTSTAMP:20220212T002831
CREATED:20220120T220722Z
LAST-MODIFIED:20220124T211241Z
UID:605-1642854600-1642860000@xn--espaavaciada-dhb.org
SUMMARY:Mesa redonda "El futuro del medio rural" España Vaciada Salamanca
DESCRIPTION:Este sábado\, 22 de enero\, realizamos en Ciudad Rodrigo\, en el Palacio de Montarco a las 12:30 h\, Mesa redonda «El futuro del medio rural». \n  \nLos candidatos de España Vaciada Salamanca\, Verónica Santos y Carlos Lanchas\, debatirán sobre los desafíos del mundo rural junto a Julio Majadas y Víctor Casas de la Fundación Entretantos\, y Fernando Pulido de España Vaciada Extremadura. Moderado por la periodista Paula Zorita. \nNoticia: España Vaciada Salamanca debate con expertos los desafíos para el futuro del medio rural
URL:https://xn--espaavaciada-dhb.org/evento/mesa-redonda-el-futuro-del-medio-rural-espana-vaciada-salamanca/
CATEGORIES:Mesa Redonda
ATTACH;FMTTYPE=image/jpeg:https://xn--espaavaciada-dhb.org/wp-content/uploads/2022/01/Mesa-redonda-El-futuro-del-medio-rural-Espana-Vaciada-Salamanca.jpg
END:VEVENT
END:VCALENDAR