BEGIN:VCALENDAR
VERSION:2.0
PRODID:-//España Vaciada ¡Es el MOMENTO! - ECPv5.12.4//NONSGML v1.0//EN
CALSCALE:GREGORIAN
METHOD:PUBLISH
X-WR-CALNAME:España Vaciada ¡Es el MOMENTO!
X-ORIGINAL-URL:https://xn--espaavaciada-dhb.org
X-WR-CALDESC:Eventos para España Vaciada ¡Es el MOMENTO!
REFRESH-INTERVAL;VALUE=DURATION:PT1H
X-Robots-Tag:noindex
X-PUBLISHED-TTL:PT1H
BEGIN:VTIMEZONE
TZID:Europe/Madrid
BEGIN:DAYLIGHT
TZOFFSETFROM:+0100
TZOFFSETTO:+0200
TZNAME:CEST
DTSTART:20220327T010000
END:DAYLIGHT
BEGIN:STANDARD
TZOFFSETFROM:+0200
TZOFFSETTO:+0100
TZNAME:CET
DTSTART:20221030T010000
END:STANDARD
END:VTIMEZONE
BEGIN:VEVENT
DTSTART;TZID=Europe/Madrid:20220130T110000
DTEND;TZID=Europe/Madrid:20220130T160000
DTSTAMP:20220212T002851
CREATED:20220128T174037Z
LAST-MODIFIED:20220130T092636Z
UID:834-1643540400-1643558400@xn--espaavaciada-dhb.org
SUMMARY:España Vaciada Valladolid con Tomás Guitarte en Medina del Campo
DESCRIPTION:Este domingo\, 30 enero\, la candidatura de España Vaciada Valladolid estará con el diputado Tomás Guitarte en Medina del Campo y Tordesillas. \n\n12:00 h. En las Reales Carnicerías de Medina del Campo\, mesa informativa con Tomás Guitarte.\n13:00 h. Rueda de prensa con el diputado de Tomás Guitarte y Cristina Blanco\, candidata de España Vaciada Valladolid\, en la puerta de las Reales Carnicerías de Medina del Campo.\n16h. Visita a Tordesillas con Tomás Guitarte y Cristina Blanco.
URL:https://xn--espaavaciada-dhb.org/evento/espana-vaciada-valladolid-con-tomas-guitarte-en-medina-del-campo/
CATEGORIES:Candidaturas
ATTACH;FMTTYPE=image/jpeg:https://xn--espaavaciada-dhb.org/wp-content/uploads/2022/01/Espana-Vaciada-Valladolid-con-Tomas-Guitarte-en-Medina-del-Campo.jpg
END:VEVENT
END:VCALENDAR