BEGIN:VCALENDAR
VERSION:2.0
PRODID:-//España Vaciada ¡Es el MOMENTO! - ECPv5.12.4//NONSGML v1.0//EN
CALSCALE:GREGORIAN
METHOD:PUBLISH
X-WR-CALNAME:España Vaciada ¡Es el MOMENTO!
X-ORIGINAL-URL:https://xn--espaavaciada-dhb.org
X-WR-CALDESC:Eventos para España Vaciada ¡Es el MOMENTO!
REFRESH-INTERVAL;VALUE=DURATION:PT1H
X-Robots-Tag:noindex
X-PUBLISHED-TTL:PT1H
BEGIN:VTIMEZONE
TZID:Europe/Madrid
BEGIN:DAYLIGHT
TZOFFSETFROM:+0100
TZOFFSETTO:+0200
TZNAME:CEST
DTSTART:20220327T010000
END:DAYLIGHT
BEGIN:STANDARD
TZOFFSETFROM:+0200
TZOFFSETTO:+0100
TZNAME:CET
DTSTART:20221030T010000
END:STANDARD
END:VTIMEZONE
BEGIN:VEVENT
DTSTART;VALUE=DATE:20220210
DTEND;VALUE=DATE:20220211
DTSTAMP:20220212T002058
CREATED:20220207T125938Z
LAST-MODIFIED:20220207T130318Z
UID:1199-1644451200-1644537599@xn--espaavaciada-dhb.org
SUMMARY:Visita al Mercadillo de las Delicias y Mercado las Delicias
DESCRIPTION:El jueves 10 de febrero\, la candidata de España Vaciada Valladolid visitará el Mercadillo de las Delicias y Mercado las Delicias (Valladolid)
URL:https://xn--espaavaciada-dhb.org/evento/visita-al-mercadillo-de-las-delicias-y-mercado-de-las-delicias/
ATTACH;FMTTYPE=image/png:https://xn--espaavaciada-dhb.org/wp-content/uploads/2022/02/Delicias1.png
END:VEVENT
BEGIN:VEVENT
DTSTART;TZID=Europe/Madrid:20220210T183000
DTEND;TZID=Europe/Madrid:20220210T200000
DTSTAMP:20220212T002058
CREATED:20220207T094259Z
LAST-MODIFIED:20220207T094402Z
UID:1183-1644517800-1644523200@xn--espaavaciada-dhb.org
SUMMARY:Acto en Villarcayo
DESCRIPTION:10 de febrero 18.30 h. Acto de campaña en Villarcayo \nEspaña Vaciada Vía Burgalesa
URL:https://xn--espaavaciada-dhb.org/evento/acto-en-villarcayo-2/
END:VEVENT
BEGIN:VEVENT
DTSTART;TZID=Europe/Madrid:20220210T193000
DTEND;TZID=Europe/Madrid:20220210T210000
DTSTAMP:20220212T002058
CREATED:20220207T094118Z
LAST-MODIFIED:20220207T094118Z
UID:1180-1644521400-1644526800@xn--espaavaciada-dhb.org
SUMMARY:Acto en Villafría
DESCRIPTION:10 de febrero a las 19.30 Acto de campaña en Villafría \nEspaña Vaciada Vía Burgalesa
URL:https://xn--espaavaciada-dhb.org/evento/acto-en-villafria/
ATTACH;FMTTYPE=image/png:https://xn--espaavaciada-dhb.org/wp-content/uploads/2022/02/burgos-ultima-agenda-1.png
END:VEVENT
END:VCALENDAR