BEGIN:VCALENDAR
VERSION:2.0
PRODID:-//España Vaciada ¡Es el MOMENTO! - ECPv5.12.4//NONSGML v1.0//EN
CALSCALE:GREGORIAN
METHOD:PUBLISH
X-WR-CALNAME:España Vaciada ¡Es el MOMENTO!
X-ORIGINAL-URL:https://xn--espaavaciada-dhb.org
X-WR-CALDESC:Eventos para España Vaciada ¡Es el MOMENTO!
REFRESH-INTERVAL;VALUE=DURATION:PT1H
X-Robots-Tag:noindex
X-PUBLISHED-TTL:PT1H
BEGIN:VTIMEZONE
TZID:Europe/Madrid
BEGIN:DAYLIGHT
TZOFFSETFROM:+0100
TZOFFSETTO:+0200
TZNAME:CEST
DTSTART:20220327T010000
END:DAYLIGHT
BEGIN:STANDARD
TZOFFSETFROM:+0200
TZOFFSETTO:+0100
TZNAME:CET
DTSTART:20221030T010000
END:STANDARD
END:VTIMEZONE
BEGIN:VEVENT
DTSTART;TZID=Europe/Madrid:20220211T200000
DTEND;TZID=Europe/Madrid:20220211T210000
DTSTAMP:20220212T015533
CREATED:20220128T204147Z
LAST-MODIFIED:20220210T195029Z
UID:877-1644609600-1644613200@xn--espaavaciada-dhb.org
SUMMARY:Cierre de campaña en Soria\, con Soria ¡YA! y Tomás Guitarte
DESCRIPTION:El viernes 11 de febrero\, acto de cierre de campaña en Soria\, con la candidatura de Soria ¡YA! acompañados por el diputado Tomás Guitarte. \nSalida desde la Sede de Agrupación de electores SORIA ¡YA! (Calle Mayor nº17) hasta Plaza de San Clemente (El Tubo) donde se realizarán discursos y actuaciones musicales de grupos locales.
URL:https://xn--espaavaciada-dhb.org/evento/cierre-de-campana-en-soria/
ATTACH;FMTTYPE=image/jpeg:https://xn--espaavaciada-dhb.org/wp-content/uploads/2022/01/photo5775978466586507250.jpg
END:VEVENT
BEGIN:VEVENT
DTSTART;TZID=Europe/Madrid:20220211T195900
DTEND;TZID=Europe/Madrid:20220211T220000
DTSTAMP:20220212T015533
CREATED:20220210T103735Z
LAST-MODIFIED:20220210T172710Z
UID:1277-1644609540-1644616800@xn--espaavaciada-dhb.org
SUMMARY:Pasacalles en Burgos
DESCRIPTION:El viernes 11 de febrero\, a las 19.00h\, cierre de campaña de España Vaciada Vía Burgalesa con pasacalles con dulzaineros desde la Catedral de Burgos hasta el Teatro Principal.
URL:https://xn--espaavaciada-dhb.org/evento/pasacalles-desde-la-catedral-de-burgos/
ATTACH;FMTTYPE=image/jpeg:https://xn--espaavaciada-dhb.org/wp-content/uploads/2022/02/Acto-Burgos-pasacalles-1.jpg
END:VEVENT
BEGIN:VEVENT
DTSTART;TZID=Europe/Madrid:20220211T120000
DTEND;TZID=Europe/Madrid:20220211T140000
DTSTAMP:20220212T015533
CREATED:20220128T204906Z
LAST-MODIFIED:20220210T175053Z
UID:881-1644580800-1644588000@xn--espaavaciada-dhb.org
SUMMARY:Cierre de campaña en el Teatro Principal de Burgos
DESCRIPTION:El viernes 11 de febrero en Burgos\, a las 12h  \nEn el Salón Rojo del Teatro Principal de Burgos. \n  \nActo de cierre de campaña con todos los candidatos de España Vaciada Castilla y León \n\nJosé Ramón González de España Vaciada Vía Burgalesa\nNieves Trigueros de España Vaciada Palencia\nCristina Blanco de España Vaciada Valladolid\nVerónica Santos de España Vaciada Salamanca\n\nAcompañados del diputado Tomás Guitarte y los senadores Beatriz Martín y Joaquín Egea\, \n  \n 
URL:https://xn--espaavaciada-dhb.org/evento/cierre-de-campana-en-burgos-con-espana-vaciada-via-burgalesa-y-los-senadores-beatriz-martin-y-joaquin-egea/
ATTACH;FMTTYPE=image/jpeg:https://xn--espaavaciada-dhb.org/wp-content/uploads/2022/01/Cierre-de-Campana-CyL-Espana-Vaciada-OK2.jpg
END:VEVENT
BEGIN:VEVENT
DTSTART;TZID=Europe/Madrid:20220211T100000
DTEND;TZID=Europe/Madrid:20220211T120000
DTSTAMP:20220212T015533
CREATED:20220210T103051Z
LAST-MODIFIED:20220210T172451Z
UID:1271-1644573600-1644580800@xn--espaavaciada-dhb.org
SUMMARY:Acto en la estación del tren de Aranda
DESCRIPTION:El viernes 11 de febrero  a las 10.00h\, en la estación del tren de Aranda de Duero\, acto por la reapertura del tren directo Madrid – Aranda – Burgos
URL:https://xn--espaavaciada-dhb.org/evento/acto-en-la-estacion-del-tren-de-aranda/
ATTACH;FMTTYPE=image/jpeg:https://xn--espaavaciada-dhb.org/wp-content/uploads/2022/02/Acto-Aranda-Burgos-2.jpg
END:VEVENT
BEGIN:VEVENT
DTSTART;TZID=Europe/Madrid:20220210T193000
DTEND;TZID=Europe/Madrid:20220210T210000
DTSTAMP:20220212T015533
CREATED:20220207T094118Z
LAST-MODIFIED:20220207T094118Z
UID:1180-1644521400-1644526800@xn--espaavaciada-dhb.org
SUMMARY:Acto en Villafría
DESCRIPTION:10 de febrero a las 19.30 Acto de campaña en Villafría \nEspaña Vaciada Vía Burgalesa
URL:https://xn--espaavaciada-dhb.org/evento/acto-en-villafria/
ATTACH;FMTTYPE=image/png:https://xn--espaavaciada-dhb.org/wp-content/uploads/2022/02/burgos-ultima-agenda-1.png
END:VEVENT
BEGIN:VEVENT
DTSTART;TZID=Europe/Madrid:20220210T183000
DTEND;TZID=Europe/Madrid:20220210T200000
DTSTAMP:20220212T015533
CREATED:20220207T094259Z
LAST-MODIFIED:20220207T094402Z
UID:1183-1644517800-1644523200@xn--espaavaciada-dhb.org
SUMMARY:Acto en Villarcayo
DESCRIPTION:10 de febrero 18.30 h. Acto de campaña en Villarcayo \nEspaña Vaciada Vía Burgalesa
URL:https://xn--espaavaciada-dhb.org/evento/acto-en-villarcayo-2/
END:VEVENT
BEGIN:VEVENT
DTSTART;VALUE=DATE:20220210
DTEND;VALUE=DATE:20220211
DTSTAMP:20220212T015533
CREATED:20220207T125938Z
LAST-MODIFIED:20220207T130318Z
UID:1199-1644451200-1644537599@xn--espaavaciada-dhb.org
SUMMARY:Visita al Mercadillo de las Delicias y Mercado las Delicias
DESCRIPTION:El jueves 10 de febrero\, la candidata de España Vaciada Valladolid visitará el Mercadillo de las Delicias y Mercado las Delicias (Valladolid)
URL:https://xn--espaavaciada-dhb.org/evento/visita-al-mercadillo-de-las-delicias-y-mercado-de-las-delicias/
ATTACH;FMTTYPE=image/png:https://xn--espaavaciada-dhb.org/wp-content/uploads/2022/02/Delicias1.png
END:VEVENT
BEGIN:VEVENT
DTSTART;TZID=Europe/Madrid:20220209T200000
DTEND;TZID=Europe/Madrid:20220209T200000
DTSTAMP:20220212T015533
CREATED:20220207T092629Z
LAST-MODIFIED:20220207T092800Z
UID:1171-1644436800-1644436800@xn--espaavaciada-dhb.org
SUMMARY:Acto en Centro Cultural de Villadiego
DESCRIPTION:9 de febrero a las 20.00 h Acto de campaña en Centro Cultural de Villadiego \nEspaña Vaciada Vía Burgalesa
URL:https://xn--espaavaciada-dhb.org/evento/acto-en-centro-cultural-de-villadiego/
ATTACH;FMTTYPE=image/png:https://xn--espaavaciada-dhb.org/wp-content/uploads/2022/02/burgos-ultima-agenda-1.png
END:VEVENT
BEGIN:VEVENT
DTSTART;TZID=Europe/Madrid:20220209T193000
DTEND;TZID=Europe/Madrid:20220209T203000
DTSTAMP:20220212T015533
CREATED:20220207T092733Z
LAST-MODIFIED:20220207T092733Z
UID:1174-1644435000-1644438600@xn--espaavaciada-dhb.org
SUMMARY:Acto en Centro Cultural de Villimar
DESCRIPTION:9 de febrero a las 19.30 h\, Acto de campaña en Centro Cultural de Villimar \nEspaña Vaciada Vía Burgalesa
URL:https://xn--espaavaciada-dhb.org/evento/acto-en-centro-cultural-de-villimar/
END:VEVENT
BEGIN:VEVENT
DTSTART;TZID=Europe/Madrid:20220209T183000
DTEND;TZID=Europe/Madrid:20220209T200000
DTSTAMP:20220212T015533
CREATED:20220207T092440Z
LAST-MODIFIED:20220207T092519Z
UID:1166-1644431400-1644436800@xn--espaavaciada-dhb.org
SUMMARY:Acto en Melgar de Fernamental
DESCRIPTION:9 de febrero a las 18.30  Acto en Melgar de Fernamental \nEspaña Vaciada Vía Burgalesa
URL:https://xn--espaavaciada-dhb.org/evento/acto-en-melgar-de-fernamental/
END:VEVENT
BEGIN:VEVENT
DTSTART;TZID=Europe/Madrid:20220209T180000
DTEND;TZID=Europe/Madrid:20220209T200000
DTSTAMP:20220212T015533
CREATED:20220207T124337Z
LAST-MODIFIED:20220207T124337Z
UID:1186-1644429600-1644436800@xn--espaavaciada-dhb.org
SUMMARY:Debate sobre "Recuperación de guardias médicas" en Palencia
DESCRIPTION:9 de febrero miércoles\, a las 18.00 h España Vaciada Palencia participa en el debate organizado por la Plataforma para la recuperación de guardias médicas\, en Barruelo de Santullán \n 
URL:https://xn--espaavaciada-dhb.org/evento/1186/
END:VEVENT
BEGIN:VEVENT
DTSTART;TZID=Europe/Madrid:20220209T120000
DTEND;TZID=Europe/Madrid:20220209T140000
DTSTAMP:20220212T015533
CREATED:20220207T125220Z
LAST-MODIFIED:20220207T125337Z
UID:1192-1644408000-1644415200@xn--espaavaciada-dhb.org
SUMMARY:Reunión con la Asociación de mujeres en Guardo
DESCRIPTION:El 9 de febrero a las 12.00h la candidatura de España Vaciada Palencia se reúne con la Asociación de mujeres en Guardo.
URL:https://xn--espaavaciada-dhb.org/evento/reunion-con-asociaciones-de-mujeres-en-guardo/
END:VEVENT
BEGIN:VEVENT
DTSTART;VALUE=DATE:20220209
DTEND;VALUE=DATE:20220210
DTSTAMP:20220212T015533
CREATED:20220207T125733Z
LAST-MODIFIED:20220207T125733Z
UID:1196-1644364800-1644451199@xn--espaavaciada-dhb.org
SUMMARY:Encuentro con el comercio de Medina de Rioseco
DESCRIPTION:El miércoles 9 de febrero la candidatura de España Vaciada Valladolid se reúne con representantes del comercio de Medina de Rioseco
URL:https://xn--espaavaciada-dhb.org/evento/encuentro-con-el-comercio-de-medina-de-rioseco/
END:VEVENT
BEGIN:VEVENT
DTSTART;VALUE=DATE:20220209
DTEND;VALUE=DATE:20220210
DTSTAMP:20220212T015533
CREATED:20220207T124926Z
LAST-MODIFIED:20220207T124926Z
UID:1189-1644364800-1644451199@xn--espaavaciada-dhb.org
SUMMARY:Visita a Bisón Bonasus
DESCRIPTION:La candidata de España Vaciada Palencia visita la Reserva y Centro de interpretación del Bisonte europeo\, Bisón Bonasus\, en San Cebrián de Mudá
URL:https://xn--espaavaciada-dhb.org/evento/visita-a-bison-bisasus/
ATTACH;FMTTYPE=image/png:https://xn--espaavaciada-dhb.org/wp-content/uploads/2022/02/bison-bisasus.png
END:VEVENT
BEGIN:VEVENT
DTSTART;TZID=Europe/Madrid:20220208T200000
DTEND;TZID=Europe/Madrid:20220208T213000
DTSTAMP:20220212T015533
CREATED:20220207T092245Z
LAST-MODIFIED:20220207T092314Z
UID:1161-1644350400-1644355800@xn--espaavaciada-dhb.org
SUMMARY:Acto en Quintanar de la Sierra (Burgos)
DESCRIPTION:8 de febrero a las 20.00 Acto de campaña en Quintanar de la Sierra \nEspaña Vaciada Vía Burgalesa
URL:https://xn--espaavaciada-dhb.org/evento/acto-en-quintanar-de-la-sierra/
ATTACH;FMTTYPE=image/png:https://xn--espaavaciada-dhb.org/wp-content/uploads/2022/02/burgos-ultima-agenda.png
END:VEVENT
BEGIN:VEVENT
DTSTART;TZID=Europe/Madrid:20220208T193000
DTEND;TZID=Europe/Madrid:20220208T203000
DTSTAMP:20220212T015533
CREATED:20220207T092105Z
LAST-MODIFIED:20220207T092343Z
UID:1158-1644348600-1644352200@xn--espaavaciada-dhb.org
SUMMARY:Acto en Centro Cultural de Cortes (Burgos)
DESCRIPTION:8 de febrero a las 19.30\, Acto de campaña en el Centro Cultural de Cortes España Vaciada Vía Burgalesa
URL:https://xn--espaavaciada-dhb.org/evento/acto-en-centro-cultural-de-cortes-burgos/
END:VEVENT
BEGIN:VEVENT
DTSTART;TZID=Europe/Madrid:20220208T170000
DTEND;TZID=Europe/Madrid:20220208T183000
DTSTAMP:20220212T015533
CREATED:20220207T091844Z
LAST-MODIFIED:20220207T091941Z
UID:1154-1644339600-1644345000@xn--espaavaciada-dhb.org
SUMMARY:Acto en Salas de los Infantes (Burgos)
DESCRIPTION:8 de febrero a las 17.00 h Acto de campaña en Salas de los Infantes (Burgos) \nEspaña Vaciada Vía Burgalesa
URL:https://xn--espaavaciada-dhb.org/evento/acto-en-salas-de-infantes-burgos/
END:VEVENT
BEGIN:VEVENT
DTSTART;TZID=Europe/Madrid:20220208T120000
DTEND;TZID=Europe/Madrid:20220208T150000
DTSTAMP:20220212T015533
CREATED:20220208T021549Z
LAST-MODIFIED:20220208T021954Z
UID:1210-1644321600-1644332400@xn--espaavaciada-dhb.org
SUMMARY:Visita del mercadillo de la calle Salud\, en el Barrio de los Pajarillos de Valladolid.
DESCRIPTION:
URL:https://xn--espaavaciada-dhb.org/evento/1210/2022-02-08/
END:VEVENT
BEGIN:VEVENT
DTSTART;VALUE=DATE:20220208
DTEND;VALUE=DATE:20220209
DTSTAMP:20220212T015533
CREATED:20220208T023351Z
LAST-MODIFIED:20220208T023351Z
UID:1219-1644278400-1644364799@xn--espaavaciada-dhb.org
SUMMARY:Continuaremos con la ruta por los municipios de la provincia.
DESCRIPTION:Visitaremos Fresno el Viejo\, Torrecilla de la Orden\, Carpio\, Castrejón de Trabancos\, Brahojos de Medina\, Velascálvaro\, Rubí de Bracamonte y San Vicente del Palacio.
URL:https://xn--espaavaciada-dhb.org/evento/continuar-con-la-ruta-por-los-municipios-de-la-provincia/
END:VEVENT
BEGIN:VEVENT
DTSTART;TZID=Europe/Madrid:20220207T100000
DTEND;TZID=Europe/Madrid:20220207T200000
DTSTAMP:20220212T015533
CREATED:20220207T091651Z
LAST-MODIFIED:20220207T091651Z
UID:974-1644228000-1644264000@xn--espaavaciada-dhb.org
SUMMARY:Acto de campaña en Burgos
DESCRIPTION:Durante todo el día\, acto de calle en Gamonal y casco histórico de Burgos
URL:https://xn--espaavaciada-dhb.org/evento/acto-de-campana-en-burgos-5/
ATTACH;FMTTYPE=image/png:https://xn--espaavaciada-dhb.org/wp-content/uploads/2022/02/burgos-ultima-agenda.png
END:VEVENT
BEGIN:VEVENT
DTSTART;TZID=Europe/Madrid:20220206T120000
DTEND;TZID=Europe/Madrid:20220206T140000
DTSTAMP:20220212T015533
CREATED:20220203T115805Z
LAST-MODIFIED:20220203T120023Z
UID:1076-1644148800-1644156000@xn--espaavaciada-dhb.org
SUMMARY:Acto de campaña en el Parque de la Corredera (Béjar)
DESCRIPTION:El domingo 6 de febrero a las 12.00 h\, la candidata de España Vaciada Salamanca. Verónica Santos\,  y el senador Joaquín Egea visitarán Béjar (Parque de la Corredera).
URL:https://xn--espaavaciada-dhb.org/evento/la-candidata-de-espana-vaciada-salamanca-y-el-senador-joaquin-egea-parque-de-la-corredera-bejar/
ATTACH;FMTTYPE=image/jpeg:https://xn--espaavaciada-dhb.org/wp-content/uploads/2022/02/photo6044352075057444399.jpg
END:VEVENT
BEGIN:VEVENT
DTSTART;TZID=Europe/Madrid:20220206T120000
DTEND;TZID=Europe/Madrid:20220206T140000
DTSTAMP:20220212T015533
CREATED:20220128T203701Z
LAST-MODIFIED:20220201T124550Z
UID:872-1644148800-1644156000@xn--espaavaciada-dhb.org
SUMMARY:En Palencia\, apoyando la Concentración de bomberos de Castilla de Castilla y León
DESCRIPTION:El domingo 6 de febrero\, a las 12.00 h. la candidatura de España Vaciada Palencia con el diputado Tomás Guitarte\, estaremos apoyando la Concentración de bomberos de Castilla de Castilla y León\, porque las carencias de servicio en esta tierra don inmensas y nosotros trabajaremos en la Junta para que cambien. \nA continuación\, mesa informativa en Palencia \n*Este evento se actualizará con más información próximamente. \n 
URL:https://xn--espaavaciada-dhb.org/evento/foro-de-debate-retos-a-conseguir-en-la-espana-vaciada/
ATTACH;FMTTYPE=image/jpeg:https://xn--espaavaciada-dhb.org/wp-content/uploads/2022/01/photo6037273788565009963.jpg
END:VEVENT
BEGIN:VEVENT
DTSTART;TZID=Europe/Madrid:20220205T190000
DTEND;TZID=Europe/Madrid:20220205T210000
DTSTAMP:20220212T015533
CREATED:20220131T204341Z
LAST-MODIFIED:20220205T062059Z
UID:1028-1644087600-1644094800@xn--espaavaciada-dhb.org
SUMMARY:En el Teatro Principal de Burgos\, acto principal de campaña
DESCRIPTION:En el Teatro Principal de Burgos\, el sábado 5 de febrero\, realizamos el acto principal de campaña con el diputado Tomás Guitarte\, \, con José Ramón González\, candidato España Vaciada Vía Burgalesa\, acompañados por candidatos de otras provincias y el senador Joaquín Egea.
URL:https://xn--espaavaciada-dhb.org/evento/en-el-teatro-principal-de-burgos-acto-principal-de-campana/
CATEGORIES:Candidaturas
ATTACH;FMTTYPE=image/jpeg:https://xn--espaavaciada-dhb.org/wp-content/uploads/2022/01/En-Burgos-acto-central-Espana-Vaciada-Castilla-y-Leon.jpg
END:VEVENT
BEGIN:VEVENT
DTSTART;TZID=Europe/Madrid:20220205T113000
DTEND;TZID=Europe/Madrid:20220205T200000
DTSTAMP:20220212T015533
CREATED:20220128T200317Z
LAST-MODIFIED:20220204T220500Z
UID:862-1644060600-1644091200@xn--espaavaciada-dhb.org
SUMMARY:Día de la repoblación en Belorado (Burgos)
DESCRIPTION:Tomás Guitarte\, diputado Teruel Existe\, José Ramón González\, candidato España Vaciada Vía Burgalesa y José María García\, concejal repoblación VecinosxBelorado \nSábado 5 de febrero \n11.30 h Belorado (Teatro Reina Sofía) \nY por la tarde realizaremos un acto en el Teatro Principal de Burgos \n 
URL:https://xn--espaavaciada-dhb.org/evento/acto-de-campana-en-burgos/
ATTACH;FMTTYPE=image/jpeg:https://xn--espaavaciada-dhb.org/wp-content/uploads/2022/01/Dia-de-la-repoblacion-en-Belorado-y-acto-Espana-Vaciada-en-Burgos.jpeg
END:VEVENT
BEGIN:VEVENT
DTSTART;TZID=Europe/Madrid:20220205T110000
DTEND;TZID=Europe/Madrid:20220205T130000
DTSTAMP:20220212T015533
CREATED:20220203T115443Z
LAST-MODIFIED:20220203T115443Z
UID:1074-1644058800-1644066000@xn--espaavaciada-dhb.org
SUMMARY:Visita al mercadillo de Ciudad Rodrigo
DESCRIPTION:Durante la mañana del sábado 5 de febrero\, los candidatos de España Vaciada Salamanca visitarán el mercadillo de Ciudad Rodrigo.
URL:https://xn--espaavaciada-dhb.org/evento/visita-al-mercadillo-de-ciudad-rodrigo/
ATTACH;FMTTYPE=image/jpeg:https://xn--espaavaciada-dhb.org/wp-content/uploads/2022/02/photo6044352075057444398.jpg
END:VEVENT
BEGIN:VEVENT
DTSTART;TZID=Europe/Madrid:20220204T200000
DTEND;TZID=Europe/Madrid:20220204T220000
DTSTAMP:20220212T015533
CREATED:20220203T115231Z
LAST-MODIFIED:20220203T115231Z
UID:1071-1644004800-1644012000@xn--espaavaciada-dhb.org
SUMMARY:Encuentro con los vecinos de Fuenteguinaldo
DESCRIPTION:El viernes 4 de febrero a las 20.00 h. la candidatura de España Vaciada Salamanca mantendrá un encuentro / debate con los vecinos de Fuenteguinaldo\, en el Salón de actos Mancomunidad.
URL:https://xn--espaavaciada-dhb.org/evento/encuentro-con-los-vecinos-de-fuenteguinaldo/
ATTACH;FMTTYPE=image/jpeg:https://xn--espaavaciada-dhb.org/wp-content/uploads/2022/02/photo6044352075057444398.jpg
END:VEVENT
BEGIN:VEVENT
DTSTART;TZID=Europe/Madrid:20220204T200000
DTEND;TZID=Europe/Madrid:20220204T220000
DTSTAMP:20220212T015533
CREATED:20220202T090850Z
LAST-MODIFIED:20220202T090850Z
UID:1064-1644004800-1644012000@xn--espaavaciada-dhb.org
SUMMARY:Mesa redonda "Desafíos del mundo rural"
DESCRIPTION:Viernes 4 de febrero\, 20.00 horas\, Fuenteguinaldo\, salón de actos de la Mancomunidad. Mesa redonda «Los desafíos del mundo rural»\, con los candidatos de España Vaciada Salamanca\, Verónica Santos\, Carlos Lanchas y Chema Dorado.
URL:https://xn--espaavaciada-dhb.org/evento/mesa-redonda-desafios-del-mundo-rural/
ATTACH;FMTTYPE=image/png:https://xn--espaavaciada-dhb.org/wp-content/uploads/2022/02/salalmanca.png
END:VEVENT
BEGIN:VEVENT
DTSTART;TZID=Europe/Madrid:20220204T200000
DTEND;TZID=Europe/Madrid:20220204T213000
DTSTAMP:20220212T015533
CREATED:20220128T202426Z
LAST-MODIFIED:20220205T062327Z
UID:869-1644004800-1644010200@xn--espaavaciada-dhb.org
SUMMARY:España Vaciada Valladolid junto al senador Joaquín Egea
DESCRIPTION:El sábado 5 de febrero en el Centro Cívico Esgueva\, antigua cárcel vieja de Valladolid. \nA las 11.00 h\, acto de campaña con la candidatura España Vaciada Valladolid\, acompañados por los senadores Joaquín Egea y Beatriz Martín. \nPor la tarde\, visita a Tudela de Duero. \n*Este evento se actualizará con más información próximamente. \n 
URL:https://xn--espaavaciada-dhb.org/evento/espana-vaciada-valladolid-junto-a-los-senadores-joaquin-egea-y-beatriz-martin/
ATTACH;FMTTYPE=image/jpeg:https://xn--espaavaciada-dhb.org/wp-content/uploads/2022/01/photo_2022-02-04_22-36-02.jpg
END:VEVENT
BEGIN:VEVENT
DTSTART;TZID=Europe/Madrid:20220203T193000
DTEND;TZID=Europe/Madrid:20220203T203000
DTSTAMP:20220212T015533
CREATED:20220131T155524Z
LAST-MODIFIED:20220131T155524Z
UID:994-1643916600-1643920200@xn--espaavaciada-dhb.org
SUMMARY:Acto de campaña en Burgos
DESCRIPTION:El jueves 3 de febrero\, a las 19.30\, acto de campaña en el Centro Cívico Gamonal de Burgos.
URL:https://xn--espaavaciada-dhb.org/evento/acto-de-campana-en-burgos-4/
ATTACH;FMTTYPE=image/jpeg:https://xn--espaavaciada-dhb.org/wp-content/uploads/2022/01/photo6032913095384479224.jpg
END:VEVENT
BEGIN:VEVENT
DTSTART;TZID=Europe/Madrid:20220202T180000
DTEND;TZID=Europe/Madrid:20220202T200000
DTSTAMP:20220212T015533
CREATED:20220131T151828Z
LAST-MODIFIED:20220131T151950Z
UID:980-1643824800-1643832000@xn--espaavaciada-dhb.org
SUMMARY:Mesa informativa en Burgos
DESCRIPTION:El 2 de febrero a las 18.00h en el Paseo del Espolón\, Burgos. \nMesa informativa de España Vaciada Vía Burgalesa.
URL:https://xn--espaavaciada-dhb.org/evento/acto-de-campana-en-burgos-3/
ATTACH;FMTTYPE=image/jpeg:https://xn--espaavaciada-dhb.org/wp-content/uploads/2022/01/photo6032913095384479224.jpg
END:VEVENT
END:VCALENDAR