BEGIN:VCALENDAR
VERSION:2.0
PRODID:-//España Vaciada ¡Es el MOMENTO! - ECPv5.12.4//NONSGML v1.0//EN
CALSCALE:GREGORIAN
METHOD:PUBLISH
X-WR-CALNAME:España Vaciada ¡Es el MOMENTO!
X-ORIGINAL-URL:https://xn--espaavaciada-dhb.org
X-WR-CALDESC:Eventos para España Vaciada ¡Es el MOMENTO!
REFRESH-INTERVAL;VALUE=DURATION:PT1H
X-Robots-Tag:noindex
X-PUBLISHED-TTL:PT1H
BEGIN:VTIMEZONE
TZID:Europe/Madrid
BEGIN:DAYLIGHT
TZOFFSETFROM:+0100
TZOFFSETTO:+0200
TZNAME:CEST
DTSTART:20220327T010000
END:DAYLIGHT
BEGIN:STANDARD
TZOFFSETFROM:+0200
TZOFFSETTO:+0100
TZNAME:CET
DTSTART:20221030T010000
END:STANDARD
END:VTIMEZONE
BEGIN:VEVENT
DTSTART;TZID=Europe/Madrid:20220211T100000
DTEND;TZID=Europe/Madrid:20220211T120000
DTSTAMP:20220212T045052
CREATED:20220210T103051Z
LAST-MODIFIED:20220210T172451Z
UID:1271-1644573600-1644580800@xn--espaavaciada-dhb.org
SUMMARY:Acto en la estación del tren de Aranda
DESCRIPTION:El viernes 11 de febrero  a las 10.00h\, en la estación del tren de Aranda de Duero\, acto por la reapertura del tren directo Madrid – Aranda – Burgos
URL:https://xn--espaavaciada-dhb.org/evento/acto-en-la-estacion-del-tren-de-aranda/
ATTACH;FMTTYPE=image/jpeg:https://xn--espaavaciada-dhb.org/wp-content/uploads/2022/02/Acto-Aranda-Burgos-2.jpg
END:VEVENT
BEGIN:VEVENT
DTSTART;TZID=Europe/Madrid:20220211T120000
DTEND;TZID=Europe/Madrid:20220211T140000
DTSTAMP:20220212T045052
CREATED:20220128T204906Z
LAST-MODIFIED:20220210T175053Z
UID:881-1644580800-1644588000@xn--espaavaciada-dhb.org
SUMMARY:Cierre de campaña en el Teatro Principal de Burgos
DESCRIPTION:El viernes 11 de febrero en Burgos\, a las 12h  \nEn el Salón Rojo del Teatro Principal de Burgos. \n  \nActo de cierre de campaña con todos los candidatos de España Vaciada Castilla y León \n\nJosé Ramón González de España Vaciada Vía Burgalesa\nNieves Trigueros de España Vaciada Palencia\nCristina Blanco de España Vaciada Valladolid\nVerónica Santos de España Vaciada Salamanca\n\nAcompañados del diputado Tomás Guitarte y los senadores Beatriz Martín y Joaquín Egea\, \n  \n 
URL:https://xn--espaavaciada-dhb.org/evento/cierre-de-campana-en-burgos-con-espana-vaciada-via-burgalesa-y-los-senadores-beatriz-martin-y-joaquin-egea/
ATTACH;FMTTYPE=image/jpeg:https://xn--espaavaciada-dhb.org/wp-content/uploads/2022/01/Cierre-de-Campana-CyL-Espana-Vaciada-OK2.jpg
END:VEVENT
BEGIN:VEVENT
DTSTART;TZID=Europe/Madrid:20220211T195900
DTEND;TZID=Europe/Madrid:20220211T220000
DTSTAMP:20220212T045052
CREATED:20220210T103735Z
LAST-MODIFIED:20220210T172710Z
UID:1277-1644609540-1644616800@xn--espaavaciada-dhb.org
SUMMARY:Pasacalles en Burgos
DESCRIPTION:El viernes 11 de febrero\, a las 19.00h\, cierre de campaña de España Vaciada Vía Burgalesa con pasacalles con dulzaineros desde la Catedral de Burgos hasta el Teatro Principal.
URL:https://xn--espaavaciada-dhb.org/evento/pasacalles-desde-la-catedral-de-burgos/
ATTACH;FMTTYPE=image/jpeg:https://xn--espaavaciada-dhb.org/wp-content/uploads/2022/02/Acto-Burgos-pasacalles-1.jpg
END:VEVENT
BEGIN:VEVENT
DTSTART;TZID=Europe/Madrid:20220211T200000
DTEND;TZID=Europe/Madrid:20220211T210000
DTSTAMP:20220212T045052
CREATED:20220128T204147Z
LAST-MODIFIED:20220210T195029Z
UID:877-1644609600-1644613200@xn--espaavaciada-dhb.org
SUMMARY:Cierre de campaña en Soria\, con Soria ¡YA! y Tomás Guitarte
DESCRIPTION:El viernes 11 de febrero\, acto de cierre de campaña en Soria\, con la candidatura de Soria ¡YA! acompañados por el diputado Tomás Guitarte. \nSalida desde la Sede de Agrupación de electores SORIA ¡YA! (Calle Mayor nº17) hasta Plaza de San Clemente (El Tubo) donde se realizarán discursos y actuaciones musicales de grupos locales.
URL:https://xn--espaavaciada-dhb.org/evento/cierre-de-campana-en-soria/
ATTACH;FMTTYPE=image/jpeg:https://xn--espaavaciada-dhb.org/wp-content/uploads/2022/01/photo5775978466586507250.jpg
END:VEVENT
END:VCALENDAR